BEGIN:VCALENDAR
PRODID:-//Flo Inc.//FloSoft//EN
BEGIN:VEVENT
DTSTART:20200212T170000Z
DTEND:20200212T170000Z
LOCATION:Zabok, Gradska Galerija, Zivtov trg 10
DESCRIPTION:Informativna radionica za potencijalne prijavitelje.\n\nOpširnije na http://www.kzz.hr/natjecaj-finaciranje-programa-poljo-udruga-2020-radionica-zabok-12-2-2020
SUMMARY:Najava: Natječaj za financiranje programa i projekata poljoprivrednih udruga - inf. radionica
PRIORITY:3
END:VEVENT
END:VCALENDAR