BEGIN:VCALENDAR
PRODID:-//Flo Inc.//FloSoft//EN
BEGIN:VEVENT
DTSTART:20220108T225959Z
DTEND:20220108T225959Z
LOCATION:
DESCRIPTION:Savjetovanje je otvoreno do 08.01.2022. godine.\n\nOpširnije na https://www.kzz.hr/savjet-pravilnik-2-provedba-mjera-poljo-proizvodnje-do-2023
SUMMARY:Savjetovanje - Pravilnik 2 - provedba mjera razvoja poljo. proizvodnje do 2023. - rok za prijavu
PRIORITY:3
END:VEVENT
END:VCALENDAR